BEGIN:VCALENDAR
VERSION:2.0
PRODID:-//Pelimies - ECPv6.15.20//NONSGML v1.0//EN
CALSCALE:GREGORIAN
METHOD:PUBLISH
X-ORIGINAL-URL:https://pelimies.fi
X-WR-CALDESC:Tapahtumat Pelimies
REFRESH-INTERVAL;VALUE=DURATION:PT1H
X-Robots-Tag:noindex
X-PUBLISHED-TTL:PT1H
BEGIN:VTIMEZONE
TZID:Europe/Helsinki
BEGIN:DAYLIGHT
TZOFFSETFROM:+0200
TZOFFSETTO:+0300
TZNAME:EEST
DTSTART:20240331T010000
END:DAYLIGHT
BEGIN:STANDARD
TZOFFSETFROM:+0300
TZOFFSETTO:+0200
TZNAME:EET
DTSTART:20241027T010000
END:STANDARD
BEGIN:DAYLIGHT
TZOFFSETFROM:+0200
TZOFFSETTO:+0300
TZNAME:EEST
DTSTART:20250330T010000
END:DAYLIGHT
BEGIN:STANDARD
TZOFFSETFROM:+0300
TZOFFSETTO:+0200
TZNAME:EET
DTSTART:20251026T010000
END:STANDARD
BEGIN:DAYLIGHT
TZOFFSETFROM:+0200
TZOFFSETTO:+0300
TZNAME:EEST
DTSTART:20260329T010000
END:DAYLIGHT
BEGIN:STANDARD
TZOFFSETFROM:+0300
TZOFFSETTO:+0200
TZNAME:EET
DTSTART:20261025T010000
END:STANDARD
END:VTIMEZONE
BEGIN:VEVENT
DTSTART;TZID=Europe/Helsinki:20251107T180000
DTEND;TZID=Europe/Helsinki:20251107T220000
DTSTAMP:20260420T111508
CREATED:20251103T091118Z
LAST-MODIFIED:20251103T091118Z
UID:76331-1762538400-1762552800@pelimies.fi
SUMMARY:PELIKOLO FNM
DESCRIPTION:Jo kohta perinteeksi muodostuvat Pelikolon perjantai-illan pelit! Vapaavalintainen formaatti. \n— \nThe almost-traditional Pelikolo friday game night! Format optional.
URL:https://pelimies.fi/event/pelikolo-fnm/
LOCATION:Pelikolo\, Kauppapuistikko 16 C\, Vaasa\, Pohjanmaa\, 65100\, Finland
CATEGORIES:Pelikolon tapahtumat
ORGANIZER;CN="Pelimies Vaasa":MAILTO:vaasa@pelimies.fi
END:VEVENT
BEGIN:VEVENT
DTSTART;TZID=Europe/Helsinki:20251114T170000
DTEND;TZID=Europe/Helsinki:20251114T220000
DTSTAMP:20260420T111508
CREATED:20250917T080117Z
LAST-MODIFIED:20251103T084237Z
UID:74441-1763139600-1763157600@pelimies.fi
SUMMARY:MTG: Avatar the Last Airbender Prerelease Sealed tournament at Pelikolo!
DESCRIPTION:Tule mukaan Pelikolon ensimmäiseen prerelease-tapahtumaan! Turnauksen pääsymaksu on 45€\, mikä sisältää prerelase packin tai Play Boosterit. Tapahtumaan muutoin osallistumiseen EI ole pääsymaksua. Osallistujamäärä max. 20 pelaajaa.15 ensimmäiselle rekisteröityneelle tapahtumaan saapujalle on saatavilla Prerelease pack pelejä varten. Rajoitetun saatavuuden vuoksi loput viisi osallistujaa tapahtuman tullessa täyteen pelaavat 6kpl Play Boosterilla.Kaikille tapahtumaan osallistuville sekä itse turnauksessa hyvin pärjänneille luvassa Booster-palkintoja ja/tai promoja.Ovet avataan 16:45.—— Join us for Pelikolo’s first prerelease event! The entry fee for the tournament is 45€\, which includes the prerelease pack or Play Boosters. There is NO entry fee just to enter the venue. Maximum number of participants: 20 players.Prerelease packs will be available for the first 15 registered attendees.Due to limited availability\, the remaining five participants (once the event is full) will play using 6 Play Boosters.Doors open at 16:45. \n\n\n\n\n\n\n \n\n\n\n \n\n\n\n 
URL:https://pelimies.fi/event/mtg-avatar-the-last-airbender-prerelease-sealed-tournament-at-pelikolo/
LOCATION:Pelikolo\, Kauppapuistikko 16 C\, Vaasa\, Pohjanmaa\, 65100\, Finland
CATEGORIES:Pelikolon tapahtumat
ORGANIZER;CN="Pelimies Vaasa":MAILTO:vaasa@pelimies.fi
END:VEVENT
END:VCALENDAR