BEGIN:VCALENDAR
VERSION:2.0
PRODID:-//Pelimies - ECPv6.15.20//NONSGML v1.0//EN
CALSCALE:GREGORIAN
METHOD:PUBLISH
X-ORIGINAL-URL:https://pelimies.fi
X-WR-CALDESC:Tapahtumat Pelimies
REFRESH-INTERVAL;VALUE=DURATION:PT1H
X-Robots-Tag:noindex
X-PUBLISHED-TTL:PT1H
BEGIN:VTIMEZONE
TZID:Europe/Helsinki
BEGIN:DAYLIGHT
TZOFFSETFROM:+0200
TZOFFSETTO:+0300
TZNAME:EEST
DTSTART:20240331T010000
END:DAYLIGHT
BEGIN:STANDARD
TZOFFSETFROM:+0300
TZOFFSETTO:+0200
TZNAME:EET
DTSTART:20241027T010000
END:STANDARD
BEGIN:DAYLIGHT
TZOFFSETFROM:+0200
TZOFFSETTO:+0300
TZNAME:EEST
DTSTART:20250330T010000
END:DAYLIGHT
BEGIN:STANDARD
TZOFFSETFROM:+0300
TZOFFSETTO:+0200
TZNAME:EET
DTSTART:20251026T010000
END:STANDARD
BEGIN:DAYLIGHT
TZOFFSETFROM:+0200
TZOFFSETTO:+0300
TZNAME:EEST
DTSTART:20260329T010000
END:DAYLIGHT
BEGIN:STANDARD
TZOFFSETFROM:+0300
TZOFFSETTO:+0200
TZNAME:EET
DTSTART:20261025T010000
END:STANDARD
END:VTIMEZONE
BEGIN:VEVENT
DTSTART;TZID=Europe/Helsinki:20251212T170000
DTEND;TZID=Europe/Helsinki:20251212T220000
DTSTAMP:20260420T094410
CREATED:20251125T093247Z
LAST-MODIFIED:20251125T093247Z
UID:76941-1765558800-1765576800@pelimies.fi
SUMMARY:Pelikolo Game Night
DESCRIPTION:Tervetuloa Pelikololle pelailemaan! Normaali FNM meininki vapaavalintaisella peliformaatilla. \n—– \nWelcome to Pelikolo! It’s a standard FNM\, play whatever format you prefer.
URL:https://pelimies.fi/event/pelikolo-game-night-2/
LOCATION:Pelikolo\, Kauppapuistikko 16 C\, Vaasa\, Pohjanmaa\, 65100\, Finland
CATEGORIES:Pelikolon tapahtumat
ORGANIZER;CN="Pelimies Vaasa":MAILTO:vaasa@pelimies.fi
END:VEVENT
BEGIN:VEVENT
DTSTART;TZID=Europe/Helsinki:20251219T170000
DTEND;TZID=Europe/Helsinki:20251219T220000
DTSTAMP:20260420T094410
CREATED:20251125T093340Z
LAST-MODIFIED:20251125T093340Z
UID:76943-1766163600-1766181600@pelimies.fi
SUMMARY:Pelikolo Game Night
DESCRIPTION:Tervetuloa Pelikololle pelailemaan! Normaali FNM meininki vapaavalintaisella peliformaatilla. \n—– \nWelcome to Pelikolo! It’s a standard FNM\, play whatever format you prefer.
URL:https://pelimies.fi/event/pelikolo-game-night-3/
LOCATION:Pohjanmaa
CATEGORIES:Pelikolon tapahtumat
END:VEVENT
END:VCALENDAR