BEGIN:VCALENDAR
VERSION:2.0
PRODID:-//Pelimies - ECPv6.15.20//NONSGML v1.0//EN
CALSCALE:GREGORIAN
METHOD:PUBLISH
X-ORIGINAL-URL:https://pelimies.fi
X-WR-CALDESC:Tapahtumat Pelimies
REFRESH-INTERVAL;VALUE=DURATION:PT1H
X-Robots-Tag:noindex
X-PUBLISHED-TTL:PT1H
BEGIN:VTIMEZONE
TZID:Europe/Helsinki
BEGIN:DAYLIGHT
TZOFFSETFROM:+0200
TZOFFSETTO:+0300
TZNAME:EEST
DTSTART:20250330T010000
END:DAYLIGHT
BEGIN:STANDARD
TZOFFSETFROM:+0300
TZOFFSETTO:+0200
TZNAME:EET
DTSTART:20251026T010000
END:STANDARD
BEGIN:DAYLIGHT
TZOFFSETFROM:+0200
TZOFFSETTO:+0300
TZNAME:EEST
DTSTART:20260329T010000
END:DAYLIGHT
BEGIN:STANDARD
TZOFFSETFROM:+0300
TZOFFSETTO:+0200
TZNAME:EET
DTSTART:20261025T010000
END:STANDARD
BEGIN:DAYLIGHT
TZOFFSETFROM:+0200
TZOFFSETTO:+0300
TZNAME:EEST
DTSTART:20270328T010000
END:DAYLIGHT
BEGIN:STANDARD
TZOFFSETFROM:+0300
TZOFFSETTO:+0200
TZNAME:EET
DTSTART:20271031T010000
END:STANDARD
END:VTIMEZONE
BEGIN:VEVENT
DTSTART;TZID=Europe/Helsinki:20260116T170000
DTEND;TZID=Europe/Helsinki:20260116T220000
DTSTAMP:20260420T081811
CREATED:20251229T093455Z
LAST-MODIFIED:20251231T084352Z
UID:78027-1768582800-1768600800@pelimies.fi
SUMMARY:Lorwyn Eclipsed Prerelease
DESCRIPTION:Tervetuloa odotetun Lorwyn Eclipsen prerelease sealed turnaukseen ja tapahtumaan! Ennakkorekisteröityminen turnaukseen tapahtuu tämän sivun kautta. Turnaukseen osallistuminen maksaa 35€ sisältäen Prerelease Packin. Tapahtumaan ei ole muutoin erillistä sisäänpääsymaksua\, kaikki ovat tervetulleita seuraamaan pelejä\, pelaamaan omilla pakoilla sivussa ja ostamaan uusia Lorwyn Eclipse-tuotteita. \nOvet avataan klo 16:45. Olethan ajoissa paikalla. \nIlmoittautuminen löytyy tältä sivulta. Ilmoitathan vain itsesi / yhden henkilön per ilmoittautuminen. Ilmoittautumiset ovat sitovia. \n—– \nWelcome to the highly anticipated Lorwyn Eclipse Prerelease Sealed tournament and event! Pre-registration for the tournament is done through this page. Participation in the tournament costs €35 and includes a Prerelease Pack. There is no separate admission fee for the event otherwise\, everyone is welcome to spectate the games\, play with their own decks and buy new Lorwyn Eclipse-products! \nThe doors will be opened at 16:45. Please arrive on time. \nRegistration can be found on this page. Please register only yourself / one person per registration. All registrations are binding.
URL:https://pelimies.fi/event/lorwyn-eclipsed-prerelease/
LOCATION:Pelikolo\, Kauppapuistikko 16 C\, Vaasa\, Pohjanmaa\, 65100\, Finland
CATEGORIES:Pelikolon tapahtumat
ORGANIZER;CN="Pelimies Vaasa":MAILTO:vaasa@pelimies.fi
END:VEVENT
BEGIN:VEVENT
DTSTART;TZID=Europe/Helsinki:20260123T170000
DTEND;TZID=Europe/Helsinki:20260123T220000
DTSTAMP:20260420T081811
CREATED:20260107T095238Z
LAST-MODIFIED:20260107T100004Z
UID:78235-1769187600-1769205600@pelimies.fi
SUMMARY:Perjantaipelit Pelikololla / Friday Games at Pelikolo
DESCRIPTION:Perjantaipelit Pelikololla! Vapaa formaatti. Samalle päivälle mahdollista tulla myös muita eventtejä\, kuten Drafteja. Näistä ilmoitamme erikseen ja lisäämme myös tänne tapahtumakalenteriin. \n— \nFriday games at Pelikolo! Open format. It’s also possible that other events will take place on the same day\, such as Drafts. We will announce these separately and also add them here to the event calendar.
URL:https://pelimies.fi/event/perjantaipelit-pelikololla-friday-games-at-pelikolo/
LOCATION:Pelikolo\, Kauppapuistikko 16 C\, Vaasa\, Pohjanmaa\, 65100\, Finland
CATEGORIES:Pelikolon tapahtumat
ORGANIZER;CN="Pelimies Vaasa":MAILTO:vaasa@pelimies.fi
END:VEVENT
BEGIN:VEVENT
DTSTART;TZID=Europe/Helsinki:20260130T170000
DTEND;TZID=Europe/Helsinki:20260130T220000
DTSTAMP:20260420T081811
CREATED:20260107T095357Z
LAST-MODIFIED:20260107T100052Z
UID:78237-1769792400-1769810400@pelimies.fi
SUMMARY:Perjantaipelit Pelikololla / Friday Games at Pelikolo
DESCRIPTION:Perjantaipelit Pelikololla! Vapaa formaatti. Samalle päivälle mahdollista tulla myös muita eventtejä\, kuten Drafteja. Näistä ilmoitamme erikseen ja lisäämme myös tänne tapahtumakalenteriin. \n— \nFriday games at Pelikolo! Open format. It’s also possible that other events will take place on the same day\, such as Drafts. We will announce these separately and also add them here to the event calendar.
URL:https://pelimies.fi/event/perjantaipelit-pelikololla-friday-games-at-pelikolo-2/
LOCATION:Pelikolo\, Kauppapuistikko 16 C\, Vaasa\, Pohjanmaa\, 65100\, Finland
CATEGORIES:Pelikolon tapahtumat
ORGANIZER;CN="Pelimies Vaasa":MAILTO:vaasa@pelimies.fi
END:VEVENT
END:VCALENDAR