BEGIN:VCALENDAR
VERSION:2.0
PRODID:-//Pelimies - ECPv6.15.20//NONSGML v1.0//EN
CALSCALE:GREGORIAN
METHOD:PUBLISH
X-WR-CALNAME:Pelimies
X-ORIGINAL-URL:https://pelimies.fi
X-WR-CALDESC:Tapahtumat Pelimies
REFRESH-INTERVAL;VALUE=DURATION:PT1H
X-Robots-Tag:noindex
X-PUBLISHED-TTL:PT1H
BEGIN:VTIMEZONE
TZID:Europe/Helsinki
BEGIN:DAYLIGHT
TZOFFSETFROM:+0200
TZOFFSETTO:+0300
TZNAME:EEST
DTSTART:20250330T010000
END:DAYLIGHT
BEGIN:STANDARD
TZOFFSETFROM:+0300
TZOFFSETTO:+0200
TZNAME:EET
DTSTART:20251026T010000
END:STANDARD
BEGIN:DAYLIGHT
TZOFFSETFROM:+0200
TZOFFSETTO:+0300
TZNAME:EEST
DTSTART:20260329T010000
END:DAYLIGHT
BEGIN:STANDARD
TZOFFSETFROM:+0300
TZOFFSETTO:+0200
TZNAME:EET
DTSTART:20261025T010000
END:STANDARD
BEGIN:DAYLIGHT
TZOFFSETFROM:+0200
TZOFFSETTO:+0300
TZNAME:EEST
DTSTART:20270328T010000
END:DAYLIGHT
BEGIN:STANDARD
TZOFFSETFROM:+0300
TZOFFSETTO:+0200
TZNAME:EET
DTSTART:20271031T010000
END:STANDARD
END:VTIMEZONE
BEGIN:VEVENT
DTSTART;TZID=Europe/Helsinki:20260306T170000
DTEND;TZID=Europe/Helsinki:20260306T220000
DTSTAMP:20260420T051543
CREATED:20260304T113208Z
LAST-MODIFIED:20260304T113208Z
UID:80106-1772816400-1772834400@pelimies.fi
SUMMARY:Pelikolo Game Night
DESCRIPTION:Perjantaipelit Pelikololla! Vapaa formaatti. Samalle päivälle mahdollista tulla myös muita eventtejä\, kuten Drafteja. Näistä ilmoitamme erikseen ja lisäämme myös tänne tapahtumakalenteriin. \n— \nFriday games at Pelikolo! Open format. It’s also possible that other events will take place on the same day\, such as Drafts. We will announce these separately and also add them here to the event calendar.
URL:https://pelimies.fi/event/pelikolo-game-night/
LOCATION:Pelikolo\, Kauppapuistikko 16 C\, Vaasa\, Pohjanmaa\, 65100\, Finland
CATEGORIES:Pelikolon tapahtumat
ORGANIZER;CN="Pelimies Vaasa":MAILTO:vaasa@pelimies.fi
END:VEVENT
BEGIN:VEVENT
DTSTART;TZID=Europe/Helsinki:20260313T170000
DTEND;TZID=Europe/Helsinki:20260313T220000
DTSTAMP:20260420T051543
CREATED:20260304T113252Z
LAST-MODIFIED:20260304T113252Z
UID:80108-1773421200-1773439200@pelimies.fi
SUMMARY:Pelikolo Game Night
DESCRIPTION:Perjantaipelit Pelikololla! Vapaa formaatti. Samalle päivälle mahdollista tulla myös muita eventtejä\, kuten Drafteja. Näistä ilmoitamme erikseen ja lisäämme myös tänne tapahtumakalenteriin. \n— \nFriday games at Pelikolo! Open format. It’s also possible that other events will take place on the same day\, such as Drafts. We will announce these separately and also add them here to the event calendar.
URL:https://pelimies.fi/event/pelikolo-game-night-4/
LOCATION:Pelikolo\, Kauppapuistikko 16 C\, Vaasa\, Pohjanmaa\, 65100\, Finland
CATEGORIES:Pelikolon tapahtumat
ORGANIZER;CN="Pelimies Vaasa":MAILTO:vaasa@pelimies.fi
END:VEVENT
BEGIN:VEVENT
DTSTART;TZID=Europe/Helsinki:20260320T170000
DTEND;TZID=Europe/Helsinki:20260320T220000
DTSTAMP:20260420T051543
CREATED:20260304T113336Z
LAST-MODIFIED:20260316T082511Z
UID:80110-1774026000-1774044000@pelimies.fi
SUMMARY:Pelikolo Game Night - Pioneer Constructed tournament!
DESCRIPTION:Pelikololla pelataan Pioneeria! Tervetuloa Pelikolon ensimmäiseen Constructed-eventiin. \nPelataan Pioneer-formaattia. 5 kierrosta Swiss-tyylin turnauksena. Parhaiten pärjänneille luvassa promokortteja viime settien promoista. \nAlla linkit Pioneer-formaatin kuvaukseen sekä Banlistiin. \nTapahtumassa on No Proxy -käytäntö. Eli Proxy-kortteja ei sallita. \nPöytiä myös vapaana perus FNM vapaan formaatin peleille\, eli Commanderin ja muiden formaattien pelaajat pääsevät myös läiskimään kortteja! \n— \nPioneer is played at Pelikolo! Welcome to Pelikolo’s first Constructed event. \nWe will be playing the Pioneer format. The tournament will consist of 5 Swiss-style rounds. Promo cards from recent sets will be awarded to the top-performing players. \nBelow are links to the Pioneer format description and the ban list. \nThe event has a No Proxy policy\, meaning proxy cards are not allowed. \nThere will also be tables available for regular FNM free-play formats\, so Commander and other format players are welcome to come and sling some cards as well! \nPioneer format: Info here\nBanlist: List here
URL:https://pelimies.fi/event/pelikolo-game-night-5/
LOCATION:Pelikolo\, Kauppapuistikko 16 C\, Vaasa\, Pohjanmaa\, 65100\, Finland
CATEGORIES:Pelikolon tapahtumat
ORGANIZER;CN="Pelimies Vaasa":MAILTO:vaasa@pelimies.fi
END:VEVENT
BEGIN:VEVENT
DTSTART;TZID=Europe/Helsinki:20260327T170000
DTEND;TZID=Europe/Helsinki:20260327T220000
DTSTAMP:20260420T051543
CREATED:20260304T113701Z
LAST-MODIFIED:20260304T113701Z
UID:80112-1774630800-1774648800@pelimies.fi
SUMMARY:Pelikolo Game Night
DESCRIPTION:Perjantaipelit Pelikololla! Vapaa formaatti. Samalle päivälle mahdollista tulla myös muita eventtejä\, kuten Drafteja. Näistä ilmoitamme erikseen ja lisäämme myös tänne tapahtumakalenteriin. \n— \nFriday games at Pelikolo! Open format. It’s also possible that other events will take place on the same day\, such as Drafts. We will announce these separately and also add them here to the event calendar.
URL:https://pelimies.fi/event/pelikolo-game-night-6/
LOCATION:Pelikolo\, Kauppapuistikko 16 C\, Vaasa\, Pohjanmaa\, 65100\, Finland
CATEGORIES:Pelikolon tapahtumat
ORGANIZER;CN="Pelimies Vaasa":MAILTO:vaasa@pelimies.fi
END:VEVENT
END:VCALENDAR